Workbook

Sheet Summary 22-23
A1: Ashton Parish Council Budget Summary 2022-2023
B3: Budget | C3: Apr | D3: May | E3: Jun | F3: Jul | G3: Aug | H3: Sep | I3: Oct | J3: Nov | K3: Dec | L3: Jan | M3: Feb | N3: Mar | O3: Total | P3: Balance
A4: Total Remuneration | B4: ='Detail 22-23'!C7 -> 4228 | C4: ='Detail 22-23'!E7 -> 295.53 | D4: ='Detail 22-23'!F7 -> 295.53 | E4: ='Detail 22-23'!G7 -> 295.53 | F4: ='Detail 22-23'!H7 -> 295.53 | G4: ='Detail 22-23'!I7 -> 295.53 | H4: ='Detail 22-23'!J7 -> 295.53 | I4: ='Detail 22-23'!K7 -> 295.53 | J4: ='Detail 22-23'!L7 -> 487.21 | ... N4: ='Detail 22-23'!P7 -> 531.88 | O4: =SUM(C4:N4) -> 4422.84 | P4: =B4-O4 -> -194.84
A5: Total Expenses | B5: 705 | C5: 0 | D5: 0 | E5: 0 | F5: 0 | G5: 0 | H5: 0 | I5: 0 | J5: 0 | K5: 0 | L5: 0 | M5: 0 | N5: 0 | O5: 0 | P5: 705
A6: Total Administration | B6: ='Detail 22-23'!C21 -> 1641 | C6: ='Detail 22-23'!E21 -> 0 | D6: ='Detail 22-23'!F21 -> 0 | E6: ='Detail 22-23'!G21 -> 0 | F6: ='Detail 22-23'!H21 -> 0 | G6: ='Detail 22-23'!I21 -> 0 | H6: ='Detail 22-23'!J21 -> 0 | I6: ='Detail 22-23'!K21 -> 257.6 | J6: ='Detail 22-23'!L21 -> 0 | ... N6: ='Detail 22-23'!P21 -> 0 | O6: =SUM(C6:N6) -> 949.6 | P6: =B6-O6 -> 691.4
A7: Total Subscriptions | B7: ='Detail 22-23'!C28 -> 405 | C7: ='Detail 22-23'!E28 -> 0 | D7: ='Detail 22-23'!F28 -> 316.49 | E7: ='Detail 22-23'!G28 -> 0 | F7: ='Detail 22-23'!H28 -> 0 | G7: ='Detail 22-23'!I28 -> 0 | H7: ='Detail 22-23'!J28 -> 0 | I7: ='Detail 22-23'!K22 -> 0 | J7: ='Detail 22-23'!L28 -> 0 | K7: ='Detail 22-23'!M28 -> 0 | L7: ='Detail 22-23'!N28 -> 0 | M7: ='Detail 22-23'!O28 -> 0 | N7: ='Detail 22-23'!P28 -> 40 | O7: =SUM(C7:N7) -> 356.49 | P7: =B7-O7 -> 48.51
A8: Total Training | B8: ='Detail 22-23'!C33 -> 600 | C8: ='Detail 22-23'!E33 -> 0 | D8: ='Detail 22-23'!F33 -> 0 | E8: ='Detail 22-23'!G33 -> 0 | F8: ='Detail 22-23'!H33 -> 0 | G8: ='Detail 22-23'!I33 -> 0 | H8: ='Detail 22-23'!J33 -> 0 | I8: ='Detail 22-23'!K33 -> 0 | J8: ='Detail 22-23'!L33 -> 0 | ... N8: ='Detail 22-23'!P33 -> 0 | O8: =SUM(C8:N8) -> 0 | P8: =B8-O8 -> 600
A9: Total Works | B9: ='Detail 22-23'!C41 -> 1234 | C9: ='Detail 22-23'!E41 -> 1920 | D9: ='Detail 22-23'!F41 -> 0 | E9: ='Detail 22-23'!G41 -> 0 | F9: ='Detail 22-23'!H41 -> 0 | G9: ='Detail 22-23'!I41 -> 0 | H9: ='Detail 22-23'!J41 -> 0 | I9: ='Detail 22-23'!K41 -> 0 | J9: ='Detail 22-23'!L41 -> 0 | ... N9: ='Detail 22-23'!P41 -> 0 | O9: =SUM(C9:N9) -> 1920 | P9: =B9-O9 -> -686
A10: Total Sinking Fund re Asset Rep | B10: ='Detail 22-23'!C54 -> 790 | C10: ='Detail 22-23'!E54 -> 0 | D10: ='Detail 22-23'!F54 -> 0 | E10: ='Detail 22-23'!G54 -> 0 | F10: ='Detail 22-23'!H54 -> 0 | G10: ='Detail 22-23'!I54 -> 0 | H10: ='Detail 22-23'!J54 -> 0 | I10: ='Detail 22-23'!K54 -> 0 | J10: ='Detail 22-23'!L54 -> 0 | ... N10: ='Detail 22-23'!P54 -> 0 | O10: =SUM(C10:N10) -> 0 | P10: =B10-O10 -> 790
A12: TOTAL | B12: ='Detail 22-23'!C55 -> 9603 | C12: ='Detail 22-23'!E55 -> 2215.53 | D12: ='Detail 22-23'!F55 -> 612.02 | E12: ='Detail 22-23'!G55 -> 295.53 | F12: ='Detail 22-23'!H55 -> 295.53 | G12: ='Detail 22-23'!I55 -> 295.53 | H12: ='Detail 22-23'!J55 -> 295.53 | I12: ='Detail 22-23'!K55 -> 553.13 | J12: ='Detail 22-23'!L55 -> 487.21 | ... N12: ='Detail 22-23'!P55 -> 571.88 | O12: =SUM(C12:N12) -> 7648.93 | P12: =B12-O12 -> 1954.07
N13: check = zero | P13: =SUM(P4:P10)-P12 -> 0

Sheet Detail 22-23
B1: Ashton Parish Council Budget 2023-2024
C2: Budget | E2: Apr | F2: May | G2: June | H2: Jul | I2: Aug | J2: Sep | K2: Oct | L2: Nov | M2: Dec | N2: Jan | O2: Feb | P2: Mar | Q2: Total | R2: Balance
A3: A | B3: Clerk Salary | E3: Actual | F3: Actual | G3: Actual | H3: Actual | I3: Actual | J3: Actual | K3: Actual | L3: Actual | M3: Actual | N3: Actual | O3: Actual | P3: Actual
A4: 1 | B4: Salary | C4: 4228 | E4: 295.53 | F4: 295.53 | G4: 295.53 | H4: 295.53 | I4: 295.53 | J4: 295.53 | K4: 295.53 | L4: 295.53 | M4: 295.53 | N4: 295.53 | O4: 295.53 | P4: 295.53 | Q4: =SUM(E4:P4) -> 3546.36 | R4: 445.8
B5: Back pay | L5: 191.68 | M5: 306.64 | P5: 189.08 | Q5: 498.32
B6: Back pay owed due to restrictions at Bank | M6: 47.27 | N6: 47.27 | O6: 47.27 | P6: 47.27 | Q6: 189.08
B7: Total Remuneration | C7: =SUM(C4:C6) -> 4228 | E7: =SUM(E4:E6) -> 295.53 | F7: =SUM(F4:F6) -> 295.53 | G7: =SUM(G4:G6) -> 295.53 | H7: =SUM(H4:H6) -> 295.53 | I7: =SUM(I4:I6) -> 295.53 | J7: =SUM(J4:J6) -> 295.53 | K7: =SUM(K4:K6) -> 295.53 | L7: =SUM(L4:L6) -> 487.21 | ... R7: =SUM(R4:R6) -> 445.8 | V7: =+Q7-T7 -> 4233.76
A9: B | B9: Clerks expenses
A10: 1 | B10: Travel expenses | C10: 255 | Q10: 0 | R10: =C10-Q10 -> 255
A11: 2 | B11: Office Expenses | C11: 450 | Q11: 0 | R11: 450
B12: Total Expenses | C12: 705 | E12: =SUM(E9:E10) -> 0 | F12: =SUM(F9:F11) -> 0 | G12: =SUM(G9:G10) -> 0 | H12: =SUM(H9:H10) -> 0 | I12: =SUM(I9:I10) -> 0 | J12: =SUM(J9:J10) -> 0 | K12: =SUM(K9:K10) -> 0 | L12: =SUM(L9:L10) -> 0 | M12: =SUM(M9:M10) -> 0 | N12: =SUM(N9:N10) -> 0 | ... P12: =SUM(P9:P10) -> 0 | Q12: =SUM(Q9:Q11) -> 0 | R12: 705 | V12: =+Q12-T12 -> 0
A14: C | B14: General Administration
A15: 1 | B15: Website/email Hosting | C15: 250 | O15: 692 | Q15: 692 | R15: 442
A16: 2 | B16: Parish Newsletter x 4 | C16: 161 | Q16: 0 | R16: 161
A17: 2 | B17: Insurance policy | C17: 265 | K17: 257.6 | Q17: =SUM(E17:P17) -> 257.6 | R17: =C17-Q17 -> 7.4
A18: 3 | B18: Room Hire | C18: 150 | Q18: 0 | R18: 150
A19: 4 | B19: Election Costs | C19: 315 | Q19: 0 | R19: 315
A20: 6 | B20: External Professional Services | C20: 500 | Q20: =SUM(E20:P20) -> 0 | R20: =C20-Q20 -> 500
B21: Total Administration | C21: =SUM(C15:C20) -> 1641 | E21: =SUM(E15:E20) -> 0 | F21: =SUM(F15:F20) -> 0 | G21: =SUM(G15:G20) -> 0 | H21: =SUM(H15:H20) -> 0 | I21: =SUM(I15:I20) -> 0 | J21: =SUM(J15:J20) -> 0 | K21: =SUM(K15:K20) -> 257.6 | L21: =SUM(L15:L20) -> 0 | ... R21: =SUM(R15:R20) -> 1575.4 | V21: =+Q21-T21 -> 949.6
A22: D | B22: Subscriptions and Memberships
A23: 1 | B23: NCALC – Subscription/Internal Audit fee/DPO | C23: 365 | F23: 316.49 | Q23: 316.49 | R23: 48.51
A24: 2 | B24: ICO Subscription | C24: 40 | P24: 40 | Q24: 40 | R24: 0
A25: 3
A26: 4
B28: Total Subscriptions | C28: =SUM(C23:C27) -> 405 | E28: =SUM(E23:E27) -> 0 | F28: =SUM(F23:F27) -> 316.49 | G28: =SUM(G23:G27) -> 0 | H28: =SUM(H23:H27) -> 0 | I28: =SUM(I23:I27) -> 0 | J28: =SUM(J23:J27) -> 0 | K28: =SUM(K23:K27) -> 0 | L28: =SUM(L23:L27) -> 0 | ... R28: =SUM(R23:R27) -> 48.51 | V28: =+Q28-T28 -> 356.49
A30: E | B30: Training
A31: 1 | B31: Training allocation for Councillors & Clerk | C31: 600 | Q31: =SUM(E31:P31) -> 0 | R31: =C31-Q31 -> 600
A32: 2
B33: Total Training | C33: =SUM(C31:C31) -> 600 | E33: =SUM(E31:E31) -> 0 | F33: =SUM(F31:F31) -> 0 | G33: =SUM(G31:G31) -> 0 | H33: =SUM(H31:H31) -> 0 | I33: =SUM(I31:I31) -> 0 | J33: =SUM(J31:J31) -> 0 | K33: =SUM(K31:K31) -> 0 | L33: =SUM(L31:L31) -> 0 | ... R33: =SUM(R31:R31) -> 600 | V33: =+Q33-T33 -> 0
A35: F | B35: Community Works
A36: 1 | B36: Rock Salt and sand | C36: 60 | Q36: 0 | R36: =C36-Q36 -> 60
A37: 2 | B37: Christmas Tree | C37: 84 | Q37: 0 | R37: =C37-Q37 -> 84
A38: 3 | B38: Tree Maintenance | C38: 1050 | E38: 1920 | Q38: 1920 | R38: -870
A39: 4 | B39: Environmental Enhancements | C39: 40 | Q39: 0 | R39: 40
A40: 5
B41: Total Community Works | C41: =SUM(C36:C40) -> 1234 | E41: =SUM(E36:E40) -> 1920 | F41: =SUM(F36:F40) -> 0 | G41: =SUM(G36:G40) -> 0 | H41: =SUM(H36:H40) -> 0 | I41: =SUM(I36:I40) -> 0 | J41: =SUM(J36:J40) -> 0 | K41: =SUM(K36:K40) -> 0 | L41: =SUM(L36:L40) -> 0 | ... R41: =SUM(R36:R40) -> -686 | V41: =+Q41-T41 -> 1920
A43: G | B43: Sinking Fund re Asset replacement
A44: 1 | B44: Defibrillator | C44: 100 | Q44: =SUM(E44:P44) -> 0 | R44: =C44-Q44 -> 100
A45: 2 | B45: Litter Bins | C45: 100 | Q45: 0 | R45: =C45-Q45 -> 100
A46: 3 | B46: Grit Bin | C46: 25 | Q46: 0 | R46: 25
...

Sheet Income 23-24
A1: Ashton Parish Council 2023 - 2024 Income
A4: Income
A6: Date | B6: Received from | C6: Particulars | D6: Income into bank | E6: Interest | F6: Total Income
A7: Community Account
A8: 656119 | B8: NNC | C8: Precept | D8: 9603 | F8: 9603
D51: =SUM(D9:D50) -> 0 | E51: =SUM(E9:E50) -> 0 | F51: =SUM(F9:F50) -> 0

Sheet Expenses 23-24
A1: Community Account: | C1: 656119 | D1: EXPENSES
A2: Date | B2: Cheque No/BACS | C2: To whom paid | D2: Particulars | E2: Clerks Remuneration | F2: General Admin | G2: Cutting of the Green | H2: Noticeboard Repairs | I2: Village Hall Hire | J2: Subscription | K2: Defibrillator | L2: Website Costs | M2: Community Works | N2: Total Payments | O2: VAT to be claimed back
A3: 45018 | B3: 100409 | C3: Nene Valley Tree Services | D3: Tree Works | M3: 1920 | N3: =SUM(E3:M3) -> 1920 | O3: 320
A4: 45044 | B4: BACS | C4: Mrs S Henson | D4: Apr Wages | E4: 295.53 | N4: =SUM(E4:M4) -> 295.53
A5: 45074 | B5: BACS | C5: Mrs S Henson | D5: May Wages | E5: 295.53 | N5: =SUM(E5:M5) -> 295.53
A6: 45077 | B6: 100410 | C6: NALC | D6: Subscription | J6: 316.49 | N6: =SUM(E6:M6) -> 316.49 | O6: 26
A7: 45078 | B7: 100412 | C7: Lutton Village Hall | D7: Hire of Hall | I7: 45 | N7: =SUM(E7:M7) -> 45
A8: 45079 | B8: 100411 | C8: Mrs S Henson | D8: McAfee | J8: 109.99 | N8: =SUM(E8:M8) -> 109.99
A9: 45079 | B9: 100413 | C9: Rowan Garden Services | D9: Cutting of the Green | G9: 250 | N9: =SUM(E9:M9) -> 250
A10: 45086 | B10: 100414 | C10: Rowan Garden Services | D10: Cutting of the Green | G10: 150 | N10: =SUM(E10:M10) -> 150
A11: 45104 | B11: 100415 | C11: Rowan Garden Services | D11: Cutting of the Green | G11: 150 | N11: =SUM(E11:M11) -> 150
A12: 45105 | B12: BACS | C12: Mrs S Henson | D12: June Wages | E12: 295.53 | N12: =SUM(E12:M12) -> 295.53
A13: 45113 | B13: 100416 | C13: Rowan Garden Services | D13: Cutting of the Green | G13: 150 | N13: =SUM(E13:M13) -> 150
A14: 45131 | B14: 100417 | C14: Rowan Garden Services | D14: Cutting of the Green | G14: 150 | N14: =SUM(E14:M14) -> 150
A15: 45135 | B15: BACS | C15: Mrs S Henson | D15: July Wages | E15: 295.53 | N15: =SUM(E15:M15) -> 295.53
A16: 45167 | B16: BACS | C16: Mrs S Henson | D16: August Wages | E16: 295.53 | N16: =SUM(E16:M16) -> 295.53
A17: 45181 | B17: 100418 | C17: Rowan Garden Services | D17: Cutting of the Green | G17: 150 | N17: =SUM(E17:M17) -> 150
A18: 45181 | B18: 100419 | C18: Mrs S Henson | D18: Cutting of the Green | G18: 300 | N18: =SUM(E18:M18) -> 300
A19: 45188 | B19: 100420 | C19: Rowan Garden Services | D19: Cutting of the Green | G19: 150 | N19: =SUM(E19:M19) -> 150
A20: 45197 | B20: BACS | C20: Mrs S Henson | D20: Sept Wages | E20: 295.53 | N20: 295.53
A21: 45203 | B21: 100421 | C21: Rowan Garden Services | D21: Cutting of the Green | G21: 150 | N21: =SUM(E21:M21) -> 150
A22: 45208 | B22: 100422 | C22: Rowan Garden Services | D22: Cutting of the Green | G22: 150 | N22: =SUM(E22:M22) -> 150
A23: 45224 | B23: BACS | C23: OPENSPACES | D23: Subscription | J23: 45 | N23: 45
A24: 45227 | B24: BACS | C24: Mrs S Henson | D24: Oct Wages | E24: 295.53 | N24: =SUM(E24:M24) -> 295.53
A25: 45229 | B25: 100423 | C25: Rowan Garden Services | D25: Cutting of the Green | G25: 150 | N25: =SUM(E25:M25) -> 150
A26: 45229 | B26: 100425 | C26: Zurich Insurance | D26: Renewal | F26: 257.6 | N26: =SUM(E26:M26) -> 257.6
A27: 45251 | B27: 100426 | C27: North Northants Council | D27: Election costs 2021 | F27: 30.67 | N27: =SUM(E27:M27) -> 30.67
A28: 45253 | B28: 100424 | C28: Rowan Garden Services | D28: Cutting of the Green | G28: 150 | N28: 150
A29: 45253 | B29: 100427 | C29: Mrs S Henson | D29: backpay | E29: 191.68 | N29: =SUM(E29:M29) -> 191.68
A30: 45253 | B30: 100428 | C30: Mrs S Henson | D30: backpay | E30: 306.64 | N30: =SUM(E30:M30) -> 306.64
A31: 45258 | B31: BACS | C31: Mrs S Henson | D31: Nov Wages | E31: 295.53 | N31: =SUM(E31:M31) -> 295.53
A32: 45288 | B32: BACS | C32: Mrs S Henson | D32: Dec Wages | E32: 295.53 | N32: =SUM(E32:M32) -> 295.53
A33: 45319 | B33: BACS | C33: Mrs S Henson | D33: Jan Wages | E33: 295.53 | N33: =SUM(E33:M33) -> 295.53
A34: 45350 | B34: BACS | C34: Mrs S Henson | D34: Feb Wages | E34: 295.53 | N34: =SUM(E34:M34) -> 295.53
A35: 45358 | B35: BACS | C35: ICO | D35: Subscription | J35: 35 | N35: 35
A36: 45364 | B36: 100430 | C36: Narkedesign | D36: Website | L36: 632 | N36: 632
A37: 45379 | B37: BACS | C37: Mrs S Henson | D37: Mar Wages | E37: 295.53 | N37: =SUM(E37:M37) -> 295.53
N38: =SUM(E38:M38) -> 0
N39: =SUM(E39:M39) -> 0
N40: =SUM(E40:M40) -> 0
...

Sheet Funds
B2: Ringfenced (Sinking Funds) (Allocated Accurals) | G2: Ringfenced Funds (Specific Purpose/Grant Monies)
B3: Elections | D3: 4080 | G3: LGR Reserve | I3: 500
B4: Defibrillator | D4: 459.41 | G4: Transparency Fund | I4: 100
B5: Litter Bins | D5: 200 | G5: Publicity Fund | I5: 160
B6: Noticeboards | D6: 500 | G6: Sid's Bench maintenance | I6: 35
B7: Laptop Replacement | D7: 350.84 | G7: Christmas Lights/bunting | I7: 300
B8: Grit Bin replacement | D8: 250 | G8: Tree Works | I8: 2600
B9: Shed | D9: 775
B10: Ladders | D10: 5 | G10: Grants:
B11: Racking | D11: 5 | G11: MEF and PCC Grants | I11: 3251.36
G12: Finding Fitness | I12: 37.32
B16: Total | D16: 6625.25 | G16: Total | I16: 6983.68

Sheet Bank rec
A1: Ashton Parish Council 2023- 20234
A4: Bank reconciliation
A6: Community Account
A7: 656119
G8: balance per bank statement | J8: 26669.73
A9: Opening balance b/fwd | C9: 26553.16
A11: Income | C11: 9603
A15: Expenses | E15: ='Expenses 23-24'!N46 -> 9486.43 | J15: =SUM(J8:J12) -> 26669.73
A18: Closing balance c/fwd | E18: =J15 -> 26669.73 | G18: after date deposits
C20: =SUM(C9:C19) -> 36156.16 | E20: =SUM(E9:E19) -> 36156.16
J21: 5
C22: =C20-E20 -> 0 | G22: Balance c/fwd
A24: Unpresented Cheques | C24: 100431 | E24: 150
C25: 100432 | E25: 414
C26: 100433 | E26: 189.08
C27: 100434 | E27: 60
C29: Total | E29: =SUM(E24:E28) -> 813.08
